BEGIN:VCALENDAR
VERSION:2.0
PRODID:-//Sostenibilitat en el Cicle de l’Aigua. - ECPv6.15.9//NONSGML v1.0//EN
CALSCALE:GREGORIAN
METHOD:PUBLISH
X-WR-CALNAME:Sostenibilitat en el Cicle de l’Aigua.
X-ORIGINAL-URL:https://perteaigua.aiguesmanresa.cat/es/
X-WR-CALDESC:Eventos para Sostenibilitat en el Cicle de l’Aigua.
REFRESH-INTERVAL;VALUE=DURATION:PT1H
X-Robots-Tag:noindex
X-PUBLISHED-TTL:PT1H
BEGIN:VTIMEZONE
TZID:Europe/Madrid
BEGIN:DAYLIGHT
TZOFFSETFROM:+0100
TZOFFSETTO:+0200
TZNAME:CEST
DTSTART:20230326T010000
END:DAYLIGHT
BEGIN:STANDARD
TZOFFSETFROM:+0200
TZOFFSETTO:+0100
TZNAME:CET
DTSTART:20231029T010000
END:STANDARD
BEGIN:DAYLIGHT
TZOFFSETFROM:+0100
TZOFFSETTO:+0200
TZNAME:CEST
DTSTART:20240331T010000
END:DAYLIGHT
BEGIN:STANDARD
TZOFFSETFROM:+0200
TZOFFSETTO:+0100
TZNAME:CET
DTSTART:20241027T010000
END:STANDARD
BEGIN:DAYLIGHT
TZOFFSETFROM:+0100
TZOFFSETTO:+0200
TZNAME:CEST
DTSTART:20250330T010000
END:DAYLIGHT
BEGIN:STANDARD
TZOFFSETFROM:+0200
TZOFFSETTO:+0100
TZNAME:CET
DTSTART:20251026T010000
END:STANDARD
END:VTIMEZONE
BEGIN:VEVENT
DTSTART;TZID=Europe/Madrid:20240711T123000
DTEND;TZID=Europe/Madrid:20240711T133000
DTSTAMP:20260424T131055
CREATED:20240708T100539Z
LAST-MODIFIED:20240708T100539Z
UID:1457-1720701000-1720704600@perteaigua.aiguesmanresa.cat
SUMMARY:Fundación Observatorio del Agua
DESCRIPTION:El Observatorio del Agua es una de las acciones del proyecto “Sostenibilidad en el Ciclo del Agua”\, financiado con Fondos Europeos\, con el objetivo de mejorar la transparencia y la participación ciudadana en la gestión del agua. Un espacio donde generar diálogo en torno al servicio de agua\, la sostenibilidad\, la educación y también la gobernanza. \nEl Observatorio encuentra en su origen los objetivos que se definieron en el Pacto Social del Agua\, aprobado por la Junta General de Aguas de Manresa el 25 de enero de 2024: \nExcelencia técnica: trabajar con la garantía de cantidad\, calidad y servicio. Promover prácticas y tecnologías que reduzcan el consumo y fomenten un uso eficiente de los recursos hídricos.Compromiso Social: garantizar el derecho al agua\, contribuyendo a la educación y divulgación sobre la importancia de este elemento.Participación ciudadana: garantizar la transparencia informativa\, involucrar a la comunidad en la toma de decisiones\, asegurando que sus voces sean escuchadas y se tengan en cuenta sus necesidades y preocupacionesResponsabilidad Ambiental: garantizar el uso eficiente del agua estableciendo prácticas que preserven este elemento\, promoviendo su uso responsable y evitando la contaminación.Equilibrio Económico: trabajar a partir de la sostenibilidad económica basada en el equilibrio entre costes e ingresos y en el uso eficaz y eficiente de los recursos\, para garantizar su viabilidad.El acto que se llevará a cabo el próximo jueves es de carácter simbólico y tiene la finalidad de mostrar el apoyo de diversas instituciones a esta iniciativa. Participarán el Ayuntamiento de Manresa\, el Consejo Comarcal del Bages\, el Consejo Comarcal del Moianès y la Mancomunidad del Bages y del Moianès por el Agua.
URL:https://perteaigua.aiguesmanresa.cat/es/esdeveniment/fundacion-observatorio-del-agua/
LOCATION:Museu de l’Aigua i el Textil\, carretera de Santpedor\, 55\, Manresa\, Barcelona\, 08242\, Espanya
CATEGORIES:Evento
ORGANIZER;CN="Aig%C3%BCes Manresa":MAILTO:info@aiguesmanresa.cat
END:VEVENT
END:VCALENDAR