BEGIN:VCALENDAR
VERSION:2.0
PRODID:-//Sostenibilitat en el Cicle de l’Aigua. - ECPv6.15.9//NONSGML v1.0//EN
CALSCALE:GREGORIAN
METHOD:PUBLISH
X-WR-CALNAME:Sostenibilitat en el Cicle de l’Aigua.
X-ORIGINAL-URL:https://perteaigua.aiguesmanresa.cat
X-WR-CALDESC:Esdeveniments per Sostenibilitat en el Cicle de l’Aigua.
REFRESH-INTERVAL;VALUE=DURATION:PT1H
X-Robots-Tag:noindex
X-PUBLISHED-TTL:PT1H
BEGIN:VTIMEZONE
TZID:Europe/Madrid
BEGIN:DAYLIGHT
TZOFFSETFROM:+0100
TZOFFSETTO:+0200
TZNAME:CEST
DTSTART:20230326T010000
END:DAYLIGHT
BEGIN:STANDARD
TZOFFSETFROM:+0200
TZOFFSETTO:+0100
TZNAME:CET
DTSTART:20231029T010000
END:STANDARD
BEGIN:DAYLIGHT
TZOFFSETFROM:+0100
TZOFFSETTO:+0200
TZNAME:CEST
DTSTART:20240331T010000
END:DAYLIGHT
BEGIN:STANDARD
TZOFFSETFROM:+0200
TZOFFSETTO:+0100
TZNAME:CET
DTSTART:20241027T010000
END:STANDARD
BEGIN:DAYLIGHT
TZOFFSETFROM:+0100
TZOFFSETTO:+0200
TZNAME:CEST
DTSTART:20250330T010000
END:DAYLIGHT
BEGIN:STANDARD
TZOFFSETFROM:+0200
TZOFFSETTO:+0100
TZNAME:CET
DTSTART:20251026T010000
END:STANDARD
END:VTIMEZONE
BEGIN:VEVENT
DTSTART;TZID=Europe/Madrid:20240711T123000
DTEND;TZID=Europe/Madrid:20240711T133000
DTSTAMP:20260420T113022
CREATED:20240708T100539Z
LAST-MODIFIED:20250818T090538Z
UID:1450-1720701000-1720704600@perteaigua.aiguesmanresa.cat
SUMMARY:Fundació Observatori de l'Aigua
DESCRIPTION:L’Observatori de l’Aigua és una de les accions del projecte “Sostenibilitat en el Cicle de l’Aigua”\, finançat amb Fons Europeus\,  amb l’objectiu de millorar la transparència i la participació ciutadana en la gestió de l’aigua. Un espai on generar diàleg a l’entorn del servei d’aigua\, la sostenibilitat\, l’educació i també la governança. \nL’Observatori troba en el seu origen els objectius que es van definir en el Pacte Social de l’Aigua\, aprovat per la Junta General d’Aigües de Manresa el 25 de gener del 2024: \n\nExcel·lència tècnica: treballar amb la garantia de quantitat\, qualitat i de servei. Promoure pràctiques i tecnologies que redueixin el consum i fomentin un ús eficient dels recursos hídrics.\nCompromís Social: garantir el dret a l’aigua\, i contribuir a l’educació i divulgació sobre la importància d’aquest element.\nParticipació ciutadana: garantir la transparència informativa\, involucrar la comunitat en la presa de decisions\, assegurant que les seves veus siguin escoltades i es tinguin en compte les seves necessitats i preocupacions\nResponsabilitat Ambiental: garantir l’ús eficient de l’aigua establint pràctiques que preservin aquest element\, promovent-ne l’ús responsable i evitant la contaminació.\nEquilibri Econòmic: treballar a partir de la sostenibilitat econòmica basada en l’equilibri entre costos i ingressos i en l’ús eficaç i eficient dels recursos\, per garantir-ne la viabilitat.\n\nL’acte que es durà a terme el proper dijous és de caràcter simbòlic i té la finalitat de mostrar el suport de diverses institucions a aquesta iniciativa. Hi participaran l’Ajuntament de Manresa\, el Consell Comarcal del Bages\, el Consell Comarcal del Moianès i la Mancomunitat del Bages i del Moianès per l’Aigua.
URL:https://perteaigua.aiguesmanresa.cat/esdeveniment/fundacio-observatori-de-laigua/
LOCATION:Museu de l’Aigua i el Textil\, carretera de Santpedor\, 55\, Manresa\, Barcelona\, 08242\, Espanya
CATEGORIES:Esdeveniment
ORGANIZER;CN="Aig%C3%BCes Manresa":MAILTO:info@aiguesmanresa.cat
END:VEVENT
END:VCALENDAR