BEGIN:VCALENDAR
VERSION:2.0
PRODID:-//Sostenibilitat en el Cicle de l’Aigua. - ECPv6.15.9//NONSGML v1.0//EN
CALSCALE:GREGORIAN
METHOD:PUBLISH
X-WR-CALNAME:Sostenibilitat en el Cicle de l’Aigua.
X-ORIGINAL-URL:https://perteaigua.aiguesmanresa.cat
X-WR-CALDESC:Esdeveniments per Sostenibilitat en el Cicle de l’Aigua.
REFRESH-INTERVAL;VALUE=DURATION:PT1H
X-Robots-Tag:noindex
X-PUBLISHED-TTL:PT1H
BEGIN:VTIMEZONE
TZID:Europe/Madrid
BEGIN:DAYLIGHT
TZOFFSETFROM:+0100
TZOFFSETTO:+0200
TZNAME:CEST
DTSTART:20230326T010000
END:DAYLIGHT
BEGIN:STANDARD
TZOFFSETFROM:+0200
TZOFFSETTO:+0100
TZNAME:CET
DTSTART:20231029T010000
END:STANDARD
BEGIN:DAYLIGHT
TZOFFSETFROM:+0100
TZOFFSETTO:+0200
TZNAME:CEST
DTSTART:20240331T010000
END:DAYLIGHT
BEGIN:STANDARD
TZOFFSETFROM:+0200
TZOFFSETTO:+0100
TZNAME:CET
DTSTART:20241027T010000
END:STANDARD
BEGIN:DAYLIGHT
TZOFFSETFROM:+0100
TZOFFSETTO:+0200
TZNAME:CEST
DTSTART:20250330T010000
END:DAYLIGHT
BEGIN:STANDARD
TZOFFSETFROM:+0200
TZOFFSETTO:+0100
TZNAME:CET
DTSTART:20251026T010000
END:STANDARD
END:VTIMEZONE
BEGIN:VEVENT
DTSTART;TZID=Europe/Madrid:20240917T083000
DTEND;TZID=Europe/Madrid:20240919T140000
DTSTAMP:20260420T110105
CREATED:20240726T080042Z
LAST-MODIFIED:20250818T085722Z
UID:1467-1726561800-1726754400@perteaigua.aiguesmanresa.cat
SUMMARY:Spain Smart Water Summit 2024
DESCRIPTION:En una era on la sostenibilitat i l’eficiència es converteixen en els pilars fonamentals per enfrontar els desafiaments del canvi climàtic\, Spain Smart Water Summit emergeix com a epicentre d’innovació per al sector de l’aigua. \nParticipem a la taula rodona d’Avançament dels Projectes PERTE: Implementació i resultats (III) \nAquesta sessió\, com a continuació de les prèvies\, exposarà casos d’èxit i avantatges aconseguits en projectes PERTE. Es mostraran exemples específics de com s’han adoptat tecnologies avançades i estratègies innovadores per digitalitzar la gestió del cicle de l’aigua\, cosa que ha millorat l’eficiència i la sostenibilitat del sector. Els participants guanyaran una clara comprensió dels resultats concrets i les lliçons apreses d’aquestes iniciatives transformadores.
URL:https://perteaigua.aiguesmanresa.cat/esdeveniment/spain-smart-water-summit-2024/
LOCATION:Melia Avenida America\, C. de Juan Ignacio Luca de Tena\, 36\, San Blas-Canillejas\, Madrid\, Madrid\, 28027\, Espanya
CATEGORIES:Conferències,Esdeveniment
END:VEVENT
END:VCALENDAR